BEGIN:VCALENDAR
VERSION:2.0
PRODID:-//Dorkalicious - ECPv6.15.20//NONSGML v1.0//EN
CALSCALE:GREGORIAN
METHOD:PUBLISH
X-WR-CALNAME:Dorkalicious
X-ORIGINAL-URL:https://dorkalicious.ca
X-WR-CALDESC:Events for Dorkalicious
REFRESH-INTERVAL;VALUE=DURATION:PT1H
X-Robots-Tag:noindex
X-PUBLISHED-TTL:PT1H
BEGIN:VTIMEZONE
TZID:Asia/Karachi
BEGIN:STANDARD
TZOFFSETFROM:+0500
TZOFFSETTO:+0500
TZNAME:PKT
DTSTART:20220101T000000
END:STANDARD
END:VTIMEZONE
BEGIN:VEVENT
DTSTART;TZID=Asia/Karachi:20230929T190000
DTEND;TZID=Asia/Karachi:20230929T220000
DTSTAMP:20260420T191120
CREATED:20230728T023507Z
LAST-MODIFIED:20230727T233237Z
UID:648-1696014000-1696024800@dorkalicious.ca
SUMMARY:Hamilton Anime Club - September Meeting
DESCRIPTION:Bring Yourself and snacks if you want \nThis is a social club and not strictly about watching anime\, there will be discussion about anime and anime adjacent topics and of course watching anime \nIf you want more details see this page: \nHamilton Anime Club
URL:https://dorkalicious.ca/event/anime-club-september-meeting/
LOCATION:Canadian Japanese Cultural Centre of Hamilton\, 45 Hempstead Dr\, Hamilton\, Ontario\, Canada
CATEGORIES:Anime Club
ATTACH;FMTTYPE=image/jpeg:https://dorkalicious.ca/wp-content/uploads/2023/07/animeclub.jpg
END:VEVENT
BEGIN:VEVENT
DTSTART;TZID=Asia/Karachi:20230825T190000
DTEND;TZID=Asia/Karachi:20230825T220000
DTSTAMP:20260420T191120
CREATED:20230728T021639Z
LAST-MODIFIED:20230728T015347Z
UID:645-1692990000-1693000800@dorkalicious.ca
SUMMARY:Hamilton Anime Club - August Meeting
DESCRIPTION:Bring yourself and snacks if you want
URL:https://dorkalicious.ca/event/hamilton-anime-club-august/
LOCATION:Canadian Japanese Cultural Centre of Hamilton\, 45 Hempstead Dr\, Hamilton\, Ontario\, Canada
CATEGORIES:Anime Club
ATTACH;FMTTYPE=image/jpeg:https://dorkalicious.ca/wp-content/uploads/2023/07/animeclub.jpg
END:VEVENT
BEGIN:VEVENT
DTSTART;TZID=Asia/Karachi:20230728T190000
DTEND;TZID=Asia/Karachi:20230728T220000
DTSTAMP:20260420T191120
CREATED:20230728T014742Z
LAST-MODIFIED:20230727T233242Z
UID:633-1690570800-1690581600@dorkalicious.ca
SUMMARY:Hamilton Anime Club - July Meeting
DESCRIPTION:Our Monthly Anime club meeting will be July 28th! \nPre-watch (Oshi-No-Ko EP1) \nSee you then
URL:https://dorkalicious.ca/event/hamilton-anime-club-july-meeting/
LOCATION:Canadian Japanese Cultural Centre of Hamilton\, 45 Hempstead Dr\, Hamilton\, Ontario\, Canada
CATEGORIES:Anime Club
ATTACH;FMTTYPE=image/jpeg:https://dorkalicious.ca/wp-content/uploads/2023/07/animeclub.jpg
END:VEVENT
END:VCALENDAR